BEGIN:VCALENDAR
VERSION:2.0
PRODID:-//Dongola School - ECPv5.4.0.2//NONSGML v1.0//EN
CALSCALE:GREGORIAN
METHOD:PUBLISH
X-WR-CALNAME:Dongola School
X-ORIGINAL-URL:https://dongolaschool.com
X-WR-CALDESC:Events for Dongola School
BEGIN:VTIMEZONE
TZID:America/Chicago
BEGIN:DAYLIGHT
TZOFFSETFROM:-0600
TZOFFSETTO:-0500
TZNAME:CDT
DTSTART:20210314T080000
END:DAYLIGHT
BEGIN:STANDARD
TZOFFSETFROM:-0500
TZOFFSETTO:-0600
TZNAME:CST
DTSTART:20211107T070000
END:STANDARD
END:VTIMEZONE
BEGIN:VEVENT
DTSTART;TZID=America/Chicago:20210216T170000
DTEND;TZID=America/Chicago:20210216T190000
DTSTAMP:20260424T070111
CREATED:20210201T155855Z
LAST-MODIFIED:20210201T155855Z
UID:4611-1613494800-1613502000@dongolaschool.com
SUMMARY:Junior High Volleyball vs. New Simpson Hill @ Home 5pm
DESCRIPTION:
URL:https://dongolaschool.com/event/junior-high-volleyball-vs-new-simpson-hill-home-5pm/
LOCATION:New Simpson Hill\,  95 Tunnel Hill Rd\, Tunnel Hill\, IL\, 62972\, United States
CATEGORIES:High School Volleyball
END:VEVENT
END:VCALENDAR