BEGIN:VCALENDAR
VERSION:2.0
PRODID:-//Dongola School - ECPv5.4.0.2//NONSGML v1.0//EN
CALSCALE:GREGORIAN
METHOD:PUBLISH
X-WR-CALNAME:Dongola School
X-ORIGINAL-URL:https://dongolaschool.com
X-WR-CALDESC:Events for Dongola School
BEGIN:VTIMEZONE
TZID:UTC
BEGIN:STANDARD
TZOFFSETFROM:+0000
TZOFFSETTO:+0000
TZNAME:UTC
DTSTART:20180101T000000
END:STANDARD
END:VTIMEZONE
BEGIN:VEVENT
DTSTART;TZID=UTC:20180423T190000
DTEND;TZID=UTC:20180423T203000
DTSTAMP:20260425T112513
CREATED:20180327T225808Z
LAST-MODIFIED:20180327T225808Z
UID:2465-1524510000-1524515400@dongolaschool.com
SUMMARY:Board Meeting @ 7pm
DESCRIPTION:Share this:\n				Share on Facebook (Opens in new window)\n				Facebook\n			\n				Share on X (Opens in new window)\n				X\n			\n				Share on LinkedIn (Opens in new window)\n				LinkedIn
URL:https://dongolaschool.com/event/board-meeting-7pm/
END:VEVENT
END:VCALENDAR