BEGIN:VCALENDAR
VERSION:2.0
PRODID:-//Dongola School - ECPv5.4.0.2//NONSGML v1.0//EN
CALSCALE:GREGORIAN
METHOD:PUBLISH
X-WR-CALNAME:Dongola School
X-ORIGINAL-URL:https://dongolaschool.com
X-WR-CALDESC:Events for Dongola School
BEGIN:VTIMEZONE
TZID:UTC
BEGIN:STANDARD
TZOFFSETFROM:+0000
TZOFFSETTO:+0000
TZNAME:UTC
DTSTART:20190101T000000
END:STANDARD
END:VTIMEZONE
BEGIN:VEVENT
DTSTART;VALUE=DATE:20190301
DTEND;VALUE=DATE:20190302
DTSTAMP:20260425T220627
CREATED:20190226T213210Z
LAST-MODIFIED:20190226T213210Z
UID:3332-1551398400-1551484799@dongolaschool.com
SUMMARY:Dr. Seuss's Birthday Celebration
DESCRIPTION:Share this:\n				Share on Facebook (Opens in new window)\n				Facebook\n			\n				Share on X (Opens in new window)\n				X\n			\n				Share on LinkedIn (Opens in new window)\n				LinkedIn
URL:https://dongolaschool.com/event/dr-seusss-birthday-celebration/
END:VEVENT
END:VCALENDAR