BEGIN:VCALENDAR
VERSION:2.0
PRODID:-//Dongola School - ECPv5.4.0.2//NONSGML v1.0//EN
CALSCALE:GREGORIAN
METHOD:PUBLISH
X-WR-CALNAME:Dongola School
X-ORIGINAL-URL:https://dongolaschool.com
X-WR-CALDESC:Events for Dongola School
BEGIN:VTIMEZONE
TZID:UTC
BEGIN:STANDARD
TZOFFSETFROM:+0000
TZOFFSETTO:+0000
TZNAME:UTC
DTSTART:20190101T000000
END:STANDARD
END:VTIMEZONE
BEGIN:VEVENT
DTSTART;TZID=UTC:20190228T180000
DTEND;TZID=UTC:20190228T200000
DTSTAMP:20260425T232715
CREATED:20190201T214105Z
LAST-MODIFIED:20190201T214105Z
UID:3286-1551376800-1551384000@dongolaschool.com
SUMMARY:Elementary Girls vs. Anna @ home 6pm
DESCRIPTION:Share this:\n				Share on Facebook (Opens in new window)\n				Facebook\n			\n				Share on X (Opens in new window)\n				X\n			\n				Share on LinkedIn (Opens in new window)\n				LinkedIn
URL:https://dongolaschool.com/event/elementary-girls-vs-anna-home-6pm/
LOCATION:Dongola School\, 1000 High St\, Dongola\, IL\, 62926\, United States
CATEGORIES:Elementary Basketball
END:VEVENT
END:VCALENDAR