BEGIN:VCALENDAR
VERSION:2.0
PRODID:-//Dongola School - ECPv5.4.0.2//NONSGML v1.0//EN
CALSCALE:GREGORIAN
METHOD:PUBLISH
X-WR-CALNAME:Dongola School
X-ORIGINAL-URL:https://dongolaschool.com
X-WR-CALDESC:Events for Dongola School
BEGIN:VTIMEZONE
TZID:UTC
BEGIN:STANDARD
TZOFFSETFROM:+0000
TZOFFSETTO:+0000
TZNAME:UTC
DTSTART:20180101T000000
END:STANDARD
END:VTIMEZONE
BEGIN:VEVENT
DTSTART;TZID=UTC:20180424T163000
DTEND;TZID=UTC:20180424T180000
DTSTAMP:20260425T082621
CREATED:20180327T230100Z
LAST-MODIFIED:20180327T230100Z
UID:2469-1524587400-1524592800@dongolaschool.com
SUMMARY:High School Baseball & Softball @ Agape
DESCRIPTION:The bus will depart at 3:00 \nShare this:\n				Share on Facebook (Opens in new window)\n				Facebook\n			\n				Share on X (Opens in new window)\n				X\n			\n				Share on LinkedIn (Opens in new window)\n				LinkedIn
URL:https://dongolaschool.com/event/high-school-baseball-softball-agape/
LOCATION:Agape High School\, 5208 Meadowland Parkway #A\, Marion\, IL\, 62959\, United States
CATEGORIES:High School Baseball,High School Softball
END:VEVENT
END:VCALENDAR