BEGIN:VCALENDAR
VERSION:2.0
PRODID:-//Dongola School - ECPv5.4.0.2//NONSGML v1.0//EN
CALSCALE:GREGORIAN
METHOD:PUBLISH
X-WR-CALNAME:Dongola School
X-ORIGINAL-URL:https://dongolaschool.com
X-WR-CALDESC:Events for Dongola School
BEGIN:VTIMEZONE
TZID:UTC
BEGIN:STANDARD
TZOFFSETFROM:+0000
TZOFFSETTO:+0000
TZNAME:UTC
DTSTART:20180101T000000
END:STANDARD
END:VTIMEZONE
BEGIN:VEVENT
DTSTART;TZID=UTC:20180202T180000
DTEND;TZID=UTC:20180202T200000
DTSTAMP:20260424T191915
CREATED:20180201T220557Z
LAST-MODIFIED:20180201T221533Z
UID:2206-1517594400-1517601600@dongolaschool.com
SUMMARY:High School Boys Basketball vs. Cairo @ Home 6pm
DESCRIPTION:Share this:\n				Share on Facebook (Opens in new window)\n				Facebook\n			\n				Share on X (Opens in new window)\n				X\n			\n				Share on LinkedIn (Opens in new window)\n				LinkedIn
URL:https://dongolaschool.com/event/high-school-boys-basketball-vs-cairo-home-6pm/
LOCATION:Dongola School\, 1000 High St\, Dongola\, IL\, 62926\, United States
CATEGORIES:High School Basketball
END:VEVENT
END:VCALENDAR