BEGIN:VCALENDAR
VERSION:2.0
PRODID:-//Dongola School - ECPv5.4.0.2//NONSGML v1.0//EN
CALSCALE:GREGORIAN
METHOD:PUBLISH
X-WR-CALNAME:Dongola School
X-ORIGINAL-URL:https://dongolaschool.com
X-WR-CALDESC:Events for Dongola School
BEGIN:VTIMEZONE
TZID:UTC
BEGIN:STANDARD
TZOFFSETFROM:+0000
TZOFFSETTO:+0000
TZNAME:UTC
DTSTART:20180101T000000
END:STANDARD
END:VTIMEZONE
BEGIN:VEVENT
DTSTART;TZID=UTC:20180204T080000
DTEND;TZID=UTC:20180204T170000
DTSTAMP:20260424T163423
CREATED:20180201T220904Z
LAST-MODIFIED:20180201T220904Z
UID:2210-1517731200-1517763600@dongolaschool.com
SUMMARY:High School Girls Regionals Feb. 5-9 TBA
DESCRIPTION:Share this:\n				Share on Facebook (Opens in new window)\n				Facebook\n			\n				Share on X (Opens in new window)\n				X\n			\n				Share on LinkedIn (Opens in new window)\n				LinkedIn
URL:https://dongolaschool.com/event/high-school-girls-regionals-feb-5-9-tba/
CATEGORIES:High School Basketball
END:VEVENT
END:VCALENDAR