BEGIN:VCALENDAR
VERSION:2.0
PRODID:-//Dongola School - ECPv5.4.0.2//NONSGML v1.0//EN
CALSCALE:GREGORIAN
METHOD:PUBLISH
X-WR-CALNAME:Dongola School
X-ORIGINAL-URL:https://dongolaschool.com
X-WR-CALDESC:Events for Dongola School
BEGIN:VTIMEZONE
TZID:UTC
BEGIN:STANDARD
TZOFFSETFROM:+0000
TZOFFSETTO:+0000
TZNAME:UTC
DTSTART:20190101T000000
END:STANDARD
END:VTIMEZONE
BEGIN:VEVENT
DTSTART;TZID=UTC:20190322T163000
DTEND;TZID=UTC:20190322T183000
DTSTAMP:20260425T232853
CREATED:20190226T221728Z
LAST-MODIFIED:20190226T221728Z
UID:3363-1553272200-1553279400@dongolaschool.com
SUMMARY:High School Softball & Baseball @ Century 4:30
DESCRIPTION:Share this:\n				Share on Facebook (Opens in new window)\n				Facebook\n			\n				Share on X (Opens in new window)\n				X\n			\n				Share on LinkedIn (Opens in new window)\n				LinkedIn
URL:https://dongolaschool.com/event/high-school-softball-baseball-century-430/
LOCATION:Century\, 4819 Shawnee College Rd.\, Ullin\, IL\, 62992\, United States
CATEGORIES:High School Baseball,High School Softball
END:VEVENT
END:VCALENDAR