BEGIN:VCALENDAR
VERSION:2.0
PRODID:-//Dongola School - ECPv5.4.0.2//NONSGML v1.0//EN
CALSCALE:GREGORIAN
METHOD:PUBLISH
X-WR-CALNAME:Dongola School
X-ORIGINAL-URL:https://dongolaschool.com
X-WR-CALDESC:Events for Dongola School
BEGIN:VTIMEZONE
TZID:UTC
BEGIN:STANDARD
TZOFFSETFROM:+0000
TZOFFSETTO:+0000
TZNAME:UTC
DTSTART:20190101T000000
END:STANDARD
END:VTIMEZONE
BEGIN:VEVENT
DTSTART;TZID=UTC:20190401T163000
DTEND;TZID=UTC:20190401T183000
DTSTAMP:20260425T160043
CREATED:20190329T200037Z
LAST-MODIFIED:20190329T202521Z
UID:3445-1554136200-1554143400@dongolaschool.com
SUMMARY:High School Softball @ Crab Orchard 4:30 pm
DESCRIPTION:bus departure 2:45 \nShare this:\n				Share on Facebook (Opens in new window)\n				Facebook\n			\n				Share on X (Opens in new window)\n				X\n			\n				Share on LinkedIn (Opens in new window)\n				LinkedIn
URL:https://dongolaschool.com/event/high-school-softball-crab-orchard-430/
LOCATION:Crab Orchard High School\, 19189 Cory Bailey St.\, Marion\, IL\, 62959\, United States
CATEGORIES:High School Softball
END:VEVENT
END:VCALENDAR