BEGIN:VCALENDAR
VERSION:2.0
PRODID:-//Dongola School - ECPv5.4.0.2//NONSGML v1.0//EN
CALSCALE:GREGORIAN
METHOD:PUBLISH
X-WR-CALNAME:Dongola School
X-ORIGINAL-URL:https://dongolaschool.com
X-WR-CALDESC:Events for Dongola School
BEGIN:VTIMEZONE
TZID:UTC
BEGIN:STANDARD
TZOFFSETFROM:+0000
TZOFFSETTO:+0000
TZNAME:UTC
DTSTART:20190101T000000
END:STANDARD
END:VTIMEZONE
BEGIN:VEVENT
DTSTART;TZID=UTC:20190415T163000
DTEND;TZID=UTC:20190415T183000
DTSTAMP:20260424T163206
CREATED:20190329T202208Z
LAST-MODIFIED:20190329T202307Z
UID:3471-1555345800-1555353000@dongolaschool.com
SUMMARY:High School Softball @ Shawnee 4:30 pm
DESCRIPTION:bus departure 3:00 \nShare this:\n				Share on Facebook (Opens in new window)\n				Facebook\n			\n				Share on X (Opens in new window)\n				X\n			\n				Share on LinkedIn (Opens in new window)\n				LinkedIn
URL:https://dongolaschool.com/event/high-school-softball-shawnee-430/
LOCATION:Shawnee High School\, 3365 IL-3\, Wolf Lake\, IL\, 62998\, United States
CATEGORIES:High School Softball
END:VEVENT
END:VCALENDAR