BEGIN:VCALENDAR
VERSION:2.0
PRODID:-//Dongola School - ECPv5.4.0.2//NONSGML v1.0//EN
CALSCALE:GREGORIAN
METHOD:PUBLISH
X-WR-CALNAME:Dongola School
X-ORIGINAL-URL:https://dongolaschool.com
X-WR-CALDESC:Events for Dongola School
BEGIN:VTIMEZONE
TZID:UTC
BEGIN:STANDARD
TZOFFSETFROM:+0000
TZOFFSETTO:+0000
TZNAME:UTC
DTSTART:20190101T000000
END:STANDARD
END:VTIMEZONE
BEGIN:VEVENT
DTSTART;TZID=UTC:20190405T163000
DTEND;TZID=UTC:20190405T180000
DTSTAMP:20260425T103201
CREATED:20190329T201053Z
LAST-MODIFIED:20190329T202438Z
UID:3451-1554481800-1554487200@dongolaschool.com
SUMMARY:High School Softball vs. Elverado @ Vergeens J.H. Softball Field 4:30 pm
DESCRIPTION:Share this:\n				Share on Facebook (Opens in new window)\n				Facebook\n			\n				Share on X (Opens in new window)\n				X\n			\n				Share on LinkedIn (Opens in new window)\n				LinkedIn
URL:https://dongolaschool.com/event/high-school-softball-vs-elverado-vergeens-j-h-softball-field/
LOCATION:Elverado High School\, 514 S. 6th St.\, Elkville\, IL\, 62932\, United States
CATEGORIES:High School Softball
END:VEVENT
END:VCALENDAR