BEGIN:VCALENDAR
VERSION:2.0
PRODID:-//Dongola School - ECPv5.4.0.2//NONSGML v1.0//EN
CALSCALE:GREGORIAN
METHOD:PUBLISH
X-WR-CALNAME:Dongola School
X-ORIGINAL-URL:https://dongolaschool.com
X-WR-CALDESC:Events for Dongola School
BEGIN:VTIMEZONE
TZID:UTC
BEGIN:STANDARD
TZOFFSETFROM:+0000
TZOFFSETTO:+0000
TZNAME:UTC
DTSTART:20190101T000000
END:STANDARD
END:VTIMEZONE
BEGIN:VEVENT
DTSTART;TZID=UTC:20190406T120000
DTEND;TZID=UTC:20190406T163000
DTSTAMP:20260425T085953
CREATED:20190329T201151Z
LAST-MODIFIED:20190329T201151Z
UID:3453-1554552000-1554568200@dongolaschool.com
SUMMARY:High School Softball vs. Hardin Co. @ Home 12:00 pm
DESCRIPTION:Share this:\n				Share on Facebook (Opens in new window)\n				Facebook\n			\n				Share on X (Opens in new window)\n				X\n			\n				Share on LinkedIn (Opens in new window)\n				LinkedIn
URL:https://dongolaschool.com/event/high-school-softball-vs-hardin-co-home-1200-pm/
LOCATION:Dongola Ballfields\, East Front Street\, Dongola\, IL\, 62926\, United States
CATEGORIES:High School Softball
END:VEVENT
END:VCALENDAR