BEGIN:VCALENDAR
VERSION:2.0
PRODID:-//Dongola School - ECPv5.4.0.2//NONSGML v1.0//EN
CALSCALE:GREGORIAN
METHOD:PUBLISH
X-WR-CALNAME:Dongola School
X-ORIGINAL-URL:https://dongolaschool.com
X-WR-CALDESC:Events for Dongola School
BEGIN:VTIMEZONE
TZID:UTC
BEGIN:STANDARD
TZOFFSETFROM:+0000
TZOFFSETTO:+0000
TZNAME:UTC
DTSTART:20190101T000000
END:STANDARD
END:VTIMEZONE
BEGIN:VEVENT
DTSTART;TZID=UTC:20190402T080000
DTEND;TZID=UTC:20190405T130000
DTSTAMP:20260425T142856
CREATED:20190329T201332Z
LAST-MODIFIED:20190329T201332Z
UID:3455-1554192000-1554469200@dongolaschool.com
SUMMARY:Illinois Assessment of Readiness Testing (3rd-8th grades)
DESCRIPTION:Share this:\n				Share on Facebook (Opens in new window)\n				Facebook\n			\n				Share on X (Opens in new window)\n				X\n			\n				Share on LinkedIn (Opens in new window)\n				LinkedIn
URL:https://dongolaschool.com/event/illinois-assessment-of-readiness-testing-3rd-8th-grades/
LOCATION:Dongola School\, 1000 High St\, Dongola\, IL\, 62926\, United States
CATEGORIES:Academic Events
END:VEVENT
END:VCALENDAR