BEGIN:VCALENDAR
VERSION:2.0
PRODID:-//Dongola School - ECPv5.4.0.2//NONSGML v1.0//EN
CALSCALE:GREGORIAN
METHOD:PUBLISH
X-WR-CALNAME:Dongola School
X-ORIGINAL-URL:https://dongolaschool.com
X-WR-CALDESC:Events for Dongola School
BEGIN:VTIMEZONE
TZID:America/Chicago
BEGIN:DAYLIGHT
TZOFFSETFROM:-0600
TZOFFSETTO:-0500
TZNAME:CDT
DTSTART:20190310T080000
END:DAYLIGHT
BEGIN:STANDARD
TZOFFSETFROM:-0500
TZOFFSETTO:-0600
TZNAME:CST
DTSTART:20191103T070000
END:STANDARD
END:VTIMEZONE
BEGIN:VEVENT
DTSTART;TZID=America/Chicago:20191104T180000
DTEND;TZID=America/Chicago:20191104T200000
DTSTAMP:20260425T085926
CREATED:20191030T124117Z
LAST-MODIFIED:20191030T124650Z
UID:3972-1572890400-1572897600@dongolaschool.com
SUMMARY:Junior High Boys Basketball @ Lick Creek 6pm
DESCRIPTION:Bus departure 5pm \nShare this:\n				Share on Facebook (Opens in new window)\n				Facebook\n			\n				Share on X (Opens in new window)\n				X\n			\n				Share on LinkedIn (Opens in new window)\n				LinkedIn
URL:https://dongolaschool.com/event/junior-high-boys-basketball-lick-creek/
LOCATION:Lick Creek School\, 7355 Lick Creek Rd.\, Buncombe\, IL\, 62912\, United States
CATEGORIES:Junior High Baseball
END:VEVENT
END:VCALENDAR