BEGIN:VCALENDAR
VERSION:2.0
PRODID:-//Dongola School - ECPv5.4.0.2//NONSGML v1.0//EN
CALSCALE:GREGORIAN
METHOD:PUBLISH
X-WR-CALNAME:Dongola School
X-ORIGINAL-URL:https://dongolaschool.com
X-WR-CALDESC:Events for Dongola School
BEGIN:VTIMEZONE
TZID:America/Chicago
BEGIN:DAYLIGHT
TZOFFSETFROM:-0600
TZOFFSETTO:-0500
TZNAME:CDT
DTSTART:20190310T080000
END:DAYLIGHT
BEGIN:STANDARD
TZOFFSETFROM:-0500
TZOFFSETTO:-0600
TZNAME:CST
DTSTART:20191103T070000
END:STANDARD
END:VTIMEZONE
BEGIN:VEVENT
DTSTART;TZID=America/Chicago:20191108T180000
DTEND;TZID=America/Chicago:20191108T213000
DTSTAMP:20260423T054503
CREATED:20191030T153308Z
LAST-MODIFIED:20191030T153308Z
UID:4015-1573236000-1573248600@dongolaschool.com
SUMMARY:Junior High Girls Basketball @ Christ Lutheran Tournament for third place 6pm Championship game 7:30pm
DESCRIPTION:Share this:\n				Share on Facebook (Opens in new window)\n				Facebook\n			\n				Share on X (Opens in new window)\n				X\n			\n				Share on LinkedIn (Opens in new window)\n				LinkedIn
URL:https://dongolaschool.com/event/junior-high-girls-basketball-christ-lutheran-tournament-for-third-place-6pm-championship-game-730pm/
LOCATION:Christ Lutheran
CATEGORIES:Junior High Basketball
END:VEVENT
END:VCALENDAR