BEGIN:VCALENDAR
VERSION:2.0
PRODID:-//Dongola School - ECPv5.4.0.2//NONSGML v1.0//EN
CALSCALE:GREGORIAN
METHOD:PUBLISH
X-WR-CALNAME:Dongola School
X-ORIGINAL-URL:https://dongolaschool.com
X-WR-CALDESC:Events for Dongola School
BEGIN:VTIMEZONE
TZID:UTC
BEGIN:STANDARD
TZOFFSETFROM:+0000
TZOFFSETTO:+0000
TZNAME:UTC
DTSTART:20190101T000000
END:STANDARD
END:VTIMEZONE
BEGIN:VEVENT
DTSTART;VALUE=DATE:20190302
DTEND;VALUE=DATE:20190303
DTSTAMP:20260425T203130
CREATED:20190226T213137Z
LAST-MODIFIED:20190226T213540Z
UID:3330-1551484800-1551571199@dongolaschool.com
SUMMARY:Junior High Volleyball Varsity Egyptian Tournament\, vs Meridian @ 9:45\, vs. Century @ 12:45 and Trophy Bracket 1:30
DESCRIPTION:Share this:\n				Share on Facebook (Opens in new window)\n				Facebook\n			\n				Share on X (Opens in new window)\n				X\n			\n				Share on LinkedIn (Opens in new window)\n				LinkedIn
URL:https://dongolaschool.com/event/junior-high-volleyball-varsity-egyptian-tournament-vs-meridian-945-vs-century-1245-and-trophy-bracket-130/
LOCATION:Egyptian High School\, 20023 Diswood Rd\, Tamms\, IL\, 62988\, United States
CATEGORIES:Junior High Volleyball
END:VEVENT
END:VCALENDAR