BEGIN:VCALENDAR
VERSION:2.0
PRODID:-//Dongola School - ECPv5.4.0.2//NONSGML v1.0//EN
CALSCALE:GREGORIAN
METHOD:PUBLISH
X-WR-CALNAME:Dongola School
X-ORIGINAL-URL:https://dongolaschool.com
X-WR-CALDESC:Events for Dongola School
BEGIN:VTIMEZONE
TZID:UTC
BEGIN:STANDARD
TZOFFSETFROM:+0000
TZOFFSETTO:+0000
TZNAME:UTC
DTSTART:20180101T000000
END:STANDARD
END:VTIMEZONE
BEGIN:VEVENT
DTSTART;TZID=UTC:20180522T180000
DTEND;TZID=UTC:20180522T190000
DTSTAMP:20260423T040646
CREATED:20180424T212113Z
LAST-MODIFIED:20180424T212113Z
UID:2540-1527012000-1527015600@dongolaschool.com
SUMMARY:Sports Awards
DESCRIPTION:Share this:\n				Share on Facebook (Opens in new window)\n				Facebook\n			\n				Share on X (Opens in new window)\n				X\n			\n				Share on LinkedIn (Opens in new window)\n				LinkedIn
URL:https://dongolaschool.com/event/sports-awards-2/
LOCATION:Dongola School\, 1000 High St\, Dongola\, IL\, 62926\, United States
END:VEVENT
END:VCALENDAR